BEGIN:VCALENDAR
VERSION:2.0
PRODID:-//eventon.com NONSGML v1.0//EN
CALSCALE:GREGORIAN
METHOD:PUBLISH
BEGIN:VEVENT
UID:69ecc7f25221c
DTSTAMP:20260425T135602Z
DTSTART:20260314T080000Z
DTEND:20260314T225000Z
LOCATION:
SUMMARY:Umwelttag OG Bösel
DESCRIPTION:Treffen: 9.00 Uhr bei Christian Dudda (Am Pool 65)\nhttps://www
 .fischereiverein-friesoythe.net/events/umwelttag-og-boesel/
URL:https://www.fischereiverein-friesoythe.net/events/umwelttag-og-boesel/
END:VEVENT
END:VCALENDAR