BEGIN:VCALENDAR
VERSION:2.0
PRODID:-//eventon.com NONSGML v1.0//EN
CALSCALE:GREGORIAN
METHOD:PUBLISH
BEGIN:VEVENT
UID:69ecd0c693dc0
DTSTAMP:20260425T143342Z
DTSTART:20250312T050000Z
DTEND:20250322T225900Z
LOCATION:
SUMMARY:Teichsperrung
DESCRIPTION:Ententeich und Maiglöckchensee\nhttps://www.fischereiverein-fr
 iesoythe.net/events/teichsperrung-3/
URL:https://www.fischereiverein-friesoythe.net/events/teichsperrung-3/
END:VEVENT
END:VCALENDAR