BEGIN:VCALENDAR
VERSION:2.0
PRODID:-//eventon.com NONSGML v1.0//EN
CALSCALE:GREGORIAN
METHOD:PUBLISH
BEGIN:VEVENT
UID:69eb4f8b5c796
DTSTAMP:20260424T111003Z
DTSTART:20250119T090000Z
DTEND:20250119T193600Z
LOCATION:
SUMMARY:Versammlung
DESCRIPTION:Peters Teich - Ehrungen- Angelscheine 2025 (Angelscheine von 20
 24 mitbringen)- Kassenbericht- Zusammenbau von Angelgeräten\nhttps://www.f
 ischereiverein-friesoythe.net/events/versammlung/
URL:https://www.fischereiverein-friesoythe.net/events/versammlung/
END:VEVENT
END:VCALENDAR