BEGIN:VCALENDAR
VERSION:2.0
PRODID:-//eventon.com NONSGML v1.0//EN
CALSCALE:GREGORIAN
METHOD:PUBLISH
BEGIN:VEVENT
UID:69e5f8ff3bf69
DTSTAMP:20260420T095927Z
DTSTART:20250318T130000Z
DTEND:20250318T225000Z
LOCATION:
SUMMARY:Aktion „Sauberes Ufer“
DESCRIPTION:mit anschl. GrillenPeters Teic\nhttps://www.fischereiverein-fri
 esoythe.net/events/aktion-sauberes-ufer-2/
URL:https://www.fischereiverein-friesoythe.net/events/aktion-sauberes-ufer-2/
END:VEVENT
END:VCALENDAR