BEGIN:VCALENDAR
VERSION:2.0
PRODID:-//eventon.com NONSGML v1.0//EN
CALSCALE:GREGORIAN
METHOD:PUBLISH
BEGIN:VEVENT
UID:69e9ffce2665b
DTSTAMP:20260423T111734Z
DTSTART:20250823T070000Z
DTEND:20250823T100000Z
LOCATION:
SUMMARY:Arbeitseinsatz am Ortsgruppenteich
DESCRIPTION:Arbeitseinsatz am Ortsgruppenteich\nhttps://www.fischereiverein
 -friesoythe.net/events/arbeitseinsatz-am-ortsgruppenteich-2/
URL:https://www.fischereiverein-friesoythe.net/events/arbeitseinsatz-am-ortsgruppenteich-2/
END:VEVENT
END:VCALENDAR